Package: InteractionSet Version: 1.36.1 Command: /home/biocbuild/R/R/bin/R CMD build --keep-empty-dirs --no-resave-data InteractionSet StartedAt: 2025-10-14 01:50:27 -0000 (Tue, 14 Oct 2025) EndedAt: 2025-10-14 01:51:51 -0000 (Tue, 14 Oct 2025) EllapsedTime: 84.0 seconds RetCode: 0 Status: OK PackageFile: InteractionSet_1.36.1.tar.gz PackageFileSize: 457.2 KiB