Package: InterCellar Version: 2.14.0 Command: /home/biocbuild/bbs-3.21-bioc/R/bin/R CMD build --keep-empty-dirs --no-resave-data InterCellar StartedAt: 2025-10-15 18:06:59 -0400 (Wed, 15 Oct 2025) EndedAt: 2025-10-15 18:07:36 -0400 (Wed, 15 Oct 2025) EllapsedTime: 37.0 seconds RetCode: 0 Status: OK PackageFile: InterCellar_2.14.0.tar.gz PackageFileSize: 4.016 MiB