Package: IntEREst Version: 1.32.0 Command: /Library/Frameworks/R.framework/Resources/bin/R CMD INSTALL IntEREst StartedAt: 2025-10-13 16:40:18 -0400 (Mon, 13 Oct 2025) EndedAt: 2025-10-13 16:42:13 -0400 (Mon, 13 Oct 2025) EllapsedTime: 114.2 seconds RetCode: 0 Status: OK