Package: IntEREst Version: 1.32.0 Command: /home/biocbuild/R/R/bin/R CMD build --keep-empty-dirs --no-resave-data IntEREst StartedAt: 2025-10-14 01:51:33 -0000 (Tue, 14 Oct 2025) EndedAt: 2025-10-14 01:53:49 -0000 (Tue, 14 Oct 2025) EllapsedTime: 135.0 seconds RetCode: 0 Status: OK PackageFile: IntEREst_1.32.0.tar.gz PackageFileSize: 1.406 MiB