Package: IntEREst Version: 1.32.0 Command: /Library/Frameworks/R.framework/Resources/bin/R CMD build --keep-empty-dirs --no-resave-data IntEREst StartedAt: 2025-10-14 02:48:25 -0400 (Tue, 14 Oct 2025) EndedAt: 2025-10-14 02:50:50 -0400 (Tue, 14 Oct 2025) EllapsedTime: 145.3 seconds RetCode: 0 Status: OK PackageFile: IntEREst_1.32.0.tar.gz PackageFileSize: 1.437 MiB