Package: IntEREst Version: 1.32.0 Command: rm -rf IntEREst.buildbin-libdir && mkdir IntEREst.buildbin-libdir && /Users/biocbuild/BBS/utils/build-universal.sh IntEREst_1.32.0.tar.gz /Library/Frameworks/R.framework/Resources/bin/R IntEREst.buildbin-libdir StartedAt: 2025-10-15 18:58:18 -0400 (Wed, 15 Oct 2025) EndedAt: 2025-10-15 18:59:27 -0400 (Wed, 15 Oct 2025) EllapsedTime: 69.9 seconds RetCode: 0 Status: OK PackageFile: IntEREst_1.32.0.tgz PackageFileSize: 1.901 MiB