Package: Informeasure Version: 1.18.0 Command: /home/biocbuild/R/R/bin/R CMD INSTALL Informeasure StartedAt: 2025-10-13 20:12:21 -0000 (Mon, 13 Oct 2025) EndedAt: 2025-10-13 20:12:37 -0000 (Mon, 13 Oct 2025) EllapsedTime: 16.0 seconds RetCode: 0 Status: OK