Package: InPAS Version: 2.16.0 Command: /home/biocbuild/bbs-3.21-bioc/R/bin/R CMD INSTALL InPAS StartedAt: 2025-10-15 15:43:52 -0400 (Wed, 15 Oct 2025) EndedAt: 2025-10-15 15:44:39 -0400 (Wed, 15 Oct 2025) EllapsedTime: 46.9 seconds RetCode: 0 Status: OK