Package: InPAS Version: 2.16.0 Command: /home/biocbuild/bbs-3.21-bioc/R/bin/R CMD build --keep-empty-dirs --no-resave-data InPAS StartedAt: 2025-10-15 18:05:44 -0400 (Wed, 15 Oct 2025) EndedAt: 2025-10-15 18:08:31 -0400 (Wed, 15 Oct 2025) EllapsedTime: 167.2 seconds RetCode: 0 Status: OK PackageFile: InPAS_2.16.0.tar.gz PackageFileSize: 1.426 MiB