Package: InPAS Version: 2.16.0 Command: /home/biocbuild/R/R/bin/R CMD INSTALL InPAS StartedAt: 2025-10-13 21:00:47 -0000 (Mon, 13 Oct 2025) EndedAt: 2025-10-13 21:01:55 -0000 (Mon, 13 Oct 2025) EllapsedTime: 67.9 seconds RetCode: 0 Status: OK