Package: InPAS Version: 2.16.0 Command: /Library/Frameworks/R.framework/Resources/bin/R CMD INSTALL InPAS StartedAt: 2025-10-13 17:34:31 -0400 (Mon, 13 Oct 2025) EndedAt: 2025-10-13 17:35:26 -0400 (Mon, 13 Oct 2025) EllapsedTime: 54.9 seconds RetCode: 0 Status: OK