Package: InPAS Version: 2.16.0 Command: /Library/Frameworks/R.framework/Resources/bin/R CMD build --keep-empty-dirs --no-resave-data InPAS StartedAt: 2025-10-14 02:43:54 -0400 (Tue, 14 Oct 2025) EndedAt: 2025-10-14 02:47:31 -0400 (Tue, 14 Oct 2025) EllapsedTime: 217.0 seconds RetCode: 0 Status: OK PackageFile: InPAS_2.16.0.tar.gz PackageFileSize: 1.435 MiB