Package: ITALICS Version: 2.68.0 Command: /home/biocbuild/bbs-3.21-bioc/R/bin/R CMD INSTALL ITALICS StartedAt: 2025-10-15 15:57:41 -0400 (Wed, 15 Oct 2025) EndedAt: 2025-10-15 15:58:07 -0400 (Wed, 15 Oct 2025) EllapsedTime: 25.5 seconds RetCode: 0 Status: OK