Package: ITALICS Version: 2.68.0 Command: /home/biocbuild/R/R/bin/R CMD INSTALL ITALICS StartedAt: 2025-10-13 21:14:08 -0000 (Mon, 13 Oct 2025) EndedAt: 2025-10-13 21:14:43 -0000 (Mon, 13 Oct 2025) EllapsedTime: 35.1 seconds RetCode: 0 Status: OK