Package: ITALICS Version: 2.68.0 Command: /home/biocbuild/R/R/bin/R CMD build --keep-empty-dirs --no-resave-data ITALICS StartedAt: 2025-10-14 01:55:28 -0000 (Tue, 14 Oct 2025) EndedAt: 2025-10-14 01:56:39 -0000 (Tue, 14 Oct 2025) EllapsedTime: 71.0 seconds RetCode: 0 Status: OK PackageFile: ITALICS_2.68.0.tar.gz PackageFileSize: 607.6 KiB