Package: ITALICS Version: 2.68.0 Command: /Library/Frameworks/R.framework/Resources/bin/R CMD INSTALL ITALICS StartedAt: 2025-10-13 18:28:49 -0400 (Mon, 13 Oct 2025) EndedAt: 2025-10-13 18:29:18 -0400 (Mon, 13 Oct 2025) EllapsedTime: 29.7 seconds RetCode: 0 Status: OK