Package: ITALICS Version: 2.68.0 Command: rm -rf ITALICS.buildbin-libdir && mkdir ITALICS.buildbin-libdir && /Users/biocbuild/BBS/utils/build-universal.sh ITALICS_2.68.0.tar.gz /Library/Frameworks/R.framework/Resources/bin/R ITALICS.buildbin-libdir StartedAt: 2025-10-15 19:01:29 -0400 (Wed, 15 Oct 2025) EndedAt: 2025-10-15 19:02:02 -0400 (Wed, 15 Oct 2025) EllapsedTime: 32.8 seconds RetCode: 0 Status: OK PackageFile: ITALICS_2.68.0.tgz PackageFileSize: 555.3 KiB