Package: ISAnalytics Version: 1.18.0 Command: /home/biocbuild/bbs-3.21-bioc/R/bin/R CMD build --keep-empty-dirs --no-resave-data ISAnalytics StartedAt: 2025-10-15 18:07:41 -0400 (Wed, 15 Oct 2025) EndedAt: 2025-10-15 18:10:24 -0400 (Wed, 15 Oct 2025) EllapsedTime: 163.2 seconds RetCode: 0 Status: OK PackageFile: ISAnalytics_1.18.0.tar.gz PackageFileSize: 4.381 MiB