Package: ISAnalytics Version: 1.18.0 Command: /home/biocbuild/R/R/bin/R CMD INSTALL ISAnalytics StartedAt: 2025-10-13 20:20:17 -0000 (Mon, 13 Oct 2025) EndedAt: 2025-10-13 20:21:02 -0000 (Mon, 13 Oct 2025) EllapsedTime: 45.5 seconds RetCode: 0 Status: OK