Package: ISAnalytics Version: 1.18.0 Command: /home/biocbuild/R/R/bin/R CMD build --keep-empty-dirs --no-resave-data ISAnalytics StartedAt: 2025-10-14 01:52:45 -0000 (Tue, 14 Oct 2025) EndedAt: 2025-10-14 01:57:26 -0000 (Tue, 14 Oct 2025) EllapsedTime: 280.1 seconds RetCode: 0 Status: OK PackageFile: ISAnalytics_1.18.0.tar.gz PackageFileSize: 4.481 MiB