Package: ISAnalytics Version: 1.18.0 Command: /Library/Frameworks/R.framework/Resources/bin/R CMD INSTALL ISAnalytics StartedAt: 2025-10-13 15:25:32 -0400 (Mon, 13 Oct 2025) EndedAt: 2025-10-13 15:25:57 -0400 (Mon, 13 Oct 2025) EllapsedTime: 25.2 seconds RetCode: 0 Status: OK