Package: ISAnalytics Version: 1.18.0 Command: /Library/Frameworks/R.framework/Resources/bin/R CMD build --keep-empty-dirs --no-resave-data ISAnalytics StartedAt: 2025-10-14 02:50:50 -0400 (Tue, 14 Oct 2025) EndedAt: 2025-10-14 02:54:16 -0400 (Tue, 14 Oct 2025) EllapsedTime: 205.4 seconds RetCode: 0 Status: OK PackageFile: ISAnalytics_1.18.0.tar.gz PackageFileSize: 4.432 MiB