Package: INTACT Version: 1.8.0 Command: /home/biocbuild/R/R/bin/R CMD INSTALL INTACT StartedAt: 2025-10-13 20:19:42 -0000 (Mon, 13 Oct 2025) EndedAt: 2025-10-13 20:19:50 -0000 (Mon, 13 Oct 2025) EllapsedTime: 7.4 seconds RetCode: 0 Status: OK