Package: INTACT Version: 1.8.0 Command: /Library/Frameworks/R.framework/Resources/bin/R CMD build --keep-empty-dirs --no-resave-data INTACT StartedAt: 2025-10-14 02:45:57 -0400 (Tue, 14 Oct 2025) EndedAt: 2025-10-14 02:46:14 -0400 (Tue, 14 Oct 2025) EllapsedTime: 16.4 seconds RetCode: 0 Status: OK PackageFile: INTACT_1.8.0.tar.gz PackageFileSize: 2.487 MiB