Package: INSPEcT Version: 1.38.0 Command: /Library/Frameworks/R.framework/Resources/bin/R CMD build --keep-empty-dirs --no-resave-data INSPEcT StartedAt: 2025-04-21 16:42:25 -0400 (Mon, 21 Apr 2025) EndedAt: 2025-04-21 16:45:44 -0400 (Mon, 21 Apr 2025) EllapsedTime: 198.2 seconds RetCode: 0 Status: OK PackageFile: INSPEcT_1.38.0.tar.gz PackageFileSize: 58.56 MiB