Package: IMPCdata Version: 1.44.0 Command: /home/biocbuild/R/R/bin/R CMD build --keep-empty-dirs --no-resave-data IMPCdata StartedAt: 2025-10-14 01:48:46 -0000 (Tue, 14 Oct 2025) EndedAt: 2025-10-14 01:50:17 -0000 (Tue, 14 Oct 2025) EllapsedTime: 91.0 seconds RetCode: 0 Status: OK PackageFile: IMPCdata_1.44.0.tar.gz PackageFileSize: 104.5 KiB