Package: IHW Version: 1.36.0 Command: /home/biocbuild/bbs-3.21-bioc/R/bin/R CMD INSTALL IHW StartedAt: 2025-10-15 15:11:12 -0400 (Wed, 15 Oct 2025) EndedAt: 2025-10-15 15:11:15 -0400 (Wed, 15 Oct 2025) EllapsedTime: 3.1 seconds RetCode: 0 Status: OK