Package: IHW Version: 1.36.0 Command: /home/biocbuild/bbs-3.21-bioc/R/bin/R CMD build --keep-empty-dirs --no-resave-data IHW StartedAt: 2025-10-15 18:03:37 -0400 (Wed, 15 Oct 2025) EndedAt: 2025-10-15 18:05:34 -0400 (Wed, 15 Oct 2025) EllapsedTime: 117.2 seconds RetCode: 0 Status: OK PackageFile: IHW_1.36.0.tar.gz PackageFileSize: 4.018 MiB