Package: IHW Version: 1.36.0 Command: rm -rf IHW.buildbin-libdir && mkdir IHW.buildbin-libdir && /Users/biocbuild/BBS/utils/build-universal.sh IHW_1.36.0.tar.gz /Library/Frameworks/R.framework/Resources/bin/R IHW.buildbin-libdir StartedAt: 2025-10-15 18:54:59 -0400 (Wed, 15 Oct 2025) EndedAt: 2025-10-15 18:55:06 -0400 (Wed, 15 Oct 2025) EllapsedTime: 7.8 seconds RetCode: 0 Status: OK PackageFile: IHW_1.36.0.tgz PackageFileSize: 4.967 MiB