Package: HilbertVisGUI Version: 1.66.1 Command: /home/biocbuild/R/R/bin/R CMD INSTALL HilbertVisGUI StartedAt: 2025-10-13 20:13:46 -0000 (Mon, 13 Oct 2025) EndedAt: 2025-10-13 20:14:16 -0000 (Mon, 13 Oct 2025) EllapsedTime: 30.0 seconds RetCode: 0 Status: OK