Package: HilbertVisGUI Version: 1.66.1 Command: /home/biocbuild/R/R/bin/R CMD build --keep-empty-dirs --no-resave-data HilbertVisGUI StartedAt: 2025-10-14 01:40:32 -0000 (Tue, 14 Oct 2025) EndedAt: 2025-10-14 01:41:05 -0000 (Tue, 14 Oct 2025) EllapsedTime: 33.0 seconds RetCode: 0 Status: OK PackageFile: HilbertVisGUI_1.66.1.tar.gz PackageFileSize: 142.9 KiB