Package: HicAggR Version: 1.4.0 Command: /home/biocbuild/R/R/bin/R CMD INSTALL HicAggR StartedAt: 2025-10-13 20:44:10 -0000 (Mon, 13 Oct 2025) EndedAt: 2025-10-13 20:44:51 -0000 (Mon, 13 Oct 2025) EllapsedTime: 40.6 seconds RetCode: 0 Status: OK