Package: HiTC Version: 1.52.0 Command: /home/biocbuild/R/R/bin/R CMD INSTALL HiTC StartedAt: 2025-10-13 20:40:57 -0000 (Mon, 13 Oct 2025) EndedAt: 2025-10-13 20:41:52 -0000 (Mon, 13 Oct 2025) EllapsedTime: 54.7 seconds RetCode: 0 Status: OK