Package: HiTC Version: 1.52.0 Command: rm -rf HiTC.buildbin-libdir && mkdir HiTC.buildbin-libdir && /Users/biocbuild/BBS/utils/build-universal.sh HiTC_1.52.0.tar.gz /Library/Frameworks/R.framework/Resources/bin/R HiTC.buildbin-libdir StartedAt: 2025-10-15 18:52:18 -0400 (Wed, 15 Oct 2025) EndedAt: 2025-10-15 18:53:06 -0400 (Wed, 15 Oct 2025) EllapsedTime: 47.8 seconds RetCode: 0 Status: OK PackageFile: HiTC_1.52.0.tgz PackageFileSize: 3.692 MiB