Package: HiContacts Version: 1.10.0 Command: /home/biocbuild/bbs-3.21-bioc/R/bin/R CMD INSTALL HiContacts StartedAt: 2025-10-15 15:24:30 -0400 (Wed, 15 Oct 2025) EndedAt: 2025-10-15 15:25:00 -0400 (Wed, 15 Oct 2025) EllapsedTime: 29.5 seconds RetCode: 0 Status: OK