Package: HiContacts Version: 1.10.0 Command: /home/biocbuild/R/R/bin/R CMD INSTALL HiContacts StartedAt: 2025-10-13 20:39:12 -0000 (Mon, 13 Oct 2025) EndedAt: 2025-10-13 20:39:53 -0000 (Mon, 13 Oct 2025) EllapsedTime: 41.5 seconds RetCode: 0 Status: OK