Package: HiContacts Version: 1.10.0 Command: /home/biocbuild/R/R/bin/R CMD build --keep-empty-dirs --no-resave-data HiContacts StartedAt: 2025-10-14 01:38:06 -0000 (Tue, 14 Oct 2025) EndedAt: 2025-10-14 01:48:14 -0000 (Tue, 14 Oct 2025) EllapsedTime: 608.0 seconds RetCode: 0 Status: OK PackageFile: HiContacts_1.10.0.tar.gz PackageFileSize: 4.326 MiB