Package: HiCcompare Version: 1.30.0 Command: /home/biocbuild/bbs-3.21-bioc/R/bin/R CMD INSTALL HiCcompare StartedAt: 2025-10-15 15:30:22 -0400 (Wed, 15 Oct 2025) EndedAt: 2025-10-15 15:30:59 -0400 (Wed, 15 Oct 2025) EllapsedTime: 37.5 seconds RetCode: 0 Status: OK