Package: HiCcompare Version: 1.30.0 Command: /home/biocbuild/R/R/bin/R CMD INSTALL HiCcompare StartedAt: 2025-10-13 20:45:58 -0000 (Mon, 13 Oct 2025) EndedAt: 2025-10-13 20:46:50 -0000 (Mon, 13 Oct 2025) EllapsedTime: 51.3 seconds RetCode: 0 Status: OK