Package: HiCcompare Version: 1.30.0 Command: /home/biocbuild/R/R/bin/R CMD build --keep-empty-dirs --no-resave-data HiCcompare StartedAt: 2025-10-14 01:37:29 -0000 (Tue, 14 Oct 2025) EndedAt: 2025-10-14 01:38:48 -0000 (Tue, 14 Oct 2025) EllapsedTime: 79.0 seconds RetCode: 0 Status: OK PackageFile: HiCcompare_1.30.0.tar.gz PackageFileSize: 3.55 MiB