Package: HiCcompare Version: 1.30.0 Command: /Library/Frameworks/R.framework/Resources/bin/R CMD INSTALL HiCcompare StartedAt: 2025-10-13 16:51:03 -0400 (Mon, 13 Oct 2025) EndedAt: 2025-10-13 16:51:50 -0400 (Mon, 13 Oct 2025) EllapsedTime: 46.9 seconds RetCode: 0 Status: OK