Package: HiCcompare Version: 1.30.0 Command: /Library/Frameworks/R.framework/Resources/bin/R CMD build --keep-empty-dirs --no-resave-data HiCcompare StartedAt: 2025-10-14 02:12:02 -0400 (Tue, 14 Oct 2025) EndedAt: 2025-10-14 02:13:24 -0400 (Tue, 14 Oct 2025) EllapsedTime: 81.7 seconds RetCode: 0 Status: OK PackageFile: HiCcompare_1.30.0.tar.gz PackageFileSize: 3.682 MiB