Package: HiCParser Version: 1.0.0 Command: rm -rf HiCParser.buildbin-libdir && mkdir HiCParser.buildbin-libdir && /Users/biocbuild/BBS/utils/build-universal.sh HiCParser_1.0.0.tar.gz /Library/Frameworks/R.framework/Resources/bin/R HiCParser.buildbin-libdir StartedAt: 2025-10-15 18:51:32 -0400 (Wed, 15 Oct 2025) EndedAt: 2025-10-15 18:52:09 -0400 (Wed, 15 Oct 2025) EllapsedTime: 36.9 seconds RetCode: 0 Status: OK PackageFile: HiCParser_1.0.0.tgz PackageFileSize: 397.7 KiB