Package: HiCExperiment Version: 1.8.0 Command: /home/biocbuild/R/R/bin/R CMD INSTALL HiCExperiment StartedAt: 2025-10-13 20:38:29 -0000 (Mon, 13 Oct 2025) EndedAt: 2025-10-13 20:39:12 -0000 (Mon, 13 Oct 2025) EllapsedTime: 43.2 seconds RetCode: 0 Status: OK