Package: HiCDOC Version: 1.10.3 Command: /home/biocbuild/R/R/bin/R CMD INSTALL HiCDOC StartedAt: 2025-10-13 20:47:35 -0000 (Mon, 13 Oct 2025) EndedAt: 2025-10-13 20:48:36 -0000 (Mon, 13 Oct 2025) EllapsedTime: 61.2 seconds RetCode: 0 Status: OK