Package: HiCDOC Version: 1.10.3 Command: /home/biocbuild/R/R/bin/R CMD build --keep-empty-dirs --no-resave-data HiCDOC StartedAt: 2025-10-14 01:37:52 -0000 (Tue, 14 Oct 2025) EndedAt: 2025-10-14 01:41:39 -0000 (Tue, 14 Oct 2025) EllapsedTime: 226.9 seconds RetCode: 0 Status: OK PackageFile: HiCDOC_1.10.3.tar.gz PackageFileSize: 3.475 MiB