Package: HiCDCPlus Version: 1.16.0 Command: /home/biocbuild/bbs-3.21-bioc/R/bin/R CMD build --keep-empty-dirs --no-resave-data HiCDCPlus StartedAt: 2025-10-15 17:57:56 -0400 (Wed, 15 Oct 2025) EndedAt: 2025-10-15 17:59:54 -0400 (Wed, 15 Oct 2025) EllapsedTime: 118.1 seconds RetCode: 0 Status: OK PackageFile: HiCDCPlus_1.16.0.tar.gz PackageFileSize: 1.189 MiB