Package: HiCDCPlus Version: 1.16.0 Command: /home/biocbuild/R/R/bin/R CMD INSTALL HiCDCPlus StartedAt: 2025-10-13 21:10:53 -0000 (Mon, 13 Oct 2025) EndedAt: 2025-10-13 21:11:54 -0000 (Mon, 13 Oct 2025) EllapsedTime: 61.3 seconds RetCode: 0 Status: OK