Package: HiCDCPlus Version: 1.16.0 Command: /Library/Frameworks/R.framework/Resources/bin/R CMD build --keep-empty-dirs --no-resave-data HiCDCPlus StartedAt: 2025-10-14 02:13:14 -0400 (Tue, 14 Oct 2025) EndedAt: 2025-10-14 02:15:40 -0400 (Tue, 14 Oct 2025) EllapsedTime: 146.2 seconds RetCode: 0 Status: OK PackageFile: HiCDCPlus_1.16.0.tar.gz PackageFileSize: 1.189 MiB