Package: HiCDCPlus Version: 1.16.0 Command: rm -rf HiCDCPlus.buildbin-libdir && mkdir HiCDCPlus.buildbin-libdir && /Users/biocbuild/BBS/utils/build-universal.sh HiCDCPlus_1.16.0.tar.gz /Library/Frameworks/R.framework/Resources/bin/R HiCDCPlus.buildbin-libdir StartedAt: 2025-10-15 18:51:13 -0400 (Wed, 15 Oct 2025) EndedAt: 2025-10-15 18:52:06 -0400 (Wed, 15 Oct 2025) EllapsedTime: 53.8 seconds RetCode: 0 Status: OK PackageFile: HiCDCPlus_1.16.0.tgz PackageFileSize: 1.415 MiB